BEGIN:VCALENDAR
VERSION:2.0
PRODID:-//TEAM JJR - ECPv6.15.20//NONSGML v1.0//EN
CALSCALE:GREGORIAN
METHOD:PUBLISH
X-ORIGINAL-URL:https://teamjjr.com
X-WR-CALDESC:Events for TEAM JJR
REFRESH-INTERVAL;VALUE=DURATION:PT1H
X-Robots-Tag:noindex
X-PUBLISHED-TTL:PT1H
BEGIN:VTIMEZONE
TZID:UTC
BEGIN:STANDARD
TZOFFSETFROM:+0000
TZOFFSETTO:+0000
TZNAME:UTC
DTSTART:20210101T000000
END:STANDARD
END:VTIMEZONE
BEGIN:VEVENT
DTSTART;TZID=UTC:20221204T080000
DTEND;TZID=UTC:20221204T170000
DTSTAMP:20260423T150737
CREATED:20220304T140213Z
LAST-MODIFIED:20220304T140216Z
UID:482-1670140800-1670173200@teamjjr.com
SUMMARY:Trent Valley Kart Club
DESCRIPTION:
URL:https://teamjjr.com/event/trent-valley-kart-club-2/
LOCATION:PF International Kart Circuit\, Stragglethorpe Ln\, Brandon\, Grantham\, Lincolnshire\, NG32 2AY\, United Kingdom
ATTACH;FMTTYPE=image/jpeg:https://teamjjr.com/wp-content/uploads/2022/03/274552741_10159931572802552_6892836427502596493_n.jpg
END:VEVENT
BEGIN:VEVENT
DTSTART;TZID=UTC:20221127T080000
DTEND;TZID=UTC:20221127T170000
DTSTAMP:20260423T150737
CREATED:20220304T141340Z
LAST-MODIFIED:20220304T141521Z
UID:497-1669536000-1669568400@teamjjr.com
SUMMARY:Whilton Mill Kart Club
DESCRIPTION:
URL:https://teamjjr.com/event/whilton-mill-kart-club-2/
LOCATION:Whilton Mill Kart Club\, Whilton Locks\, Whilton\, Daventry\, Northamptonshire\, NN11 2NH
ATTACH;FMTTYPE=image/jpeg:https://teamjjr.com/wp-content/uploads/2022/03/274857324_10159931572637552_2602789388785213688_n.jpg
END:VEVENT
BEGIN:VEVENT
DTSTART;TZID=UTC:20221106T080000
DTEND;TZID=UTC:20221106T170000
DTSTAMP:20260423T150737
CREATED:20220304T140552Z
LAST-MODIFIED:20220304T140557Z
UID:484-1667721600-1667754000@teamjjr.com
SUMMARY:Trent Valley Kart Club
DESCRIPTION:
URL:https://teamjjr.com/event/trent-valley-kart-club-3/
LOCATION:PF International Kart Circuit\, Stragglethorpe Ln\, Brandon\, Grantham\, Lincolnshire\, NG32 2AY\, United Kingdom
ATTACH;FMTTYPE=image/jpeg:https://teamjjr.com/wp-content/uploads/2022/03/274857324_10159931572637552_2602789388785213688_n.jpg
END:VEVENT
BEGIN:VEVENT
DTSTART;TZID=UTC:20221023T080000
DTEND;TZID=UTC:20221023T170000
DTSTAMP:20260423T150737
CREATED:20220304T141436Z
LAST-MODIFIED:20220304T141439Z
UID:499-1666512000-1666544400@teamjjr.com
SUMMARY:Whilton Mill Kart Club
DESCRIPTION:
URL:https://teamjjr.com/event/whilton-mill-kart-club-3/
LOCATION:Whilton Mill Kart Club\, Whilton Locks\, Whilton\, Daventry\, Northamptonshire\, NN11 2NH
ATTACH;FMTTYPE=image/jpeg:https://teamjjr.com/wp-content/uploads/2022/03/274754921_10159931572767552_5921845545256821681_n.jpg
END:VEVENT
BEGIN:VEVENT
DTSTART;TZID=UTC:20221002T080000
DTEND;TZID=UTC:20221002T170000
DTSTAMP:20260423T150737
CREATED:20220304T140720Z
LAST-MODIFIED:20220304T140726Z
UID:486-1664697600-1664730000@teamjjr.com
SUMMARY:Trent Valley Kart Club
DESCRIPTION:
URL:https://teamjjr.com/event/trent-valley-kart-club-4/
LOCATION:PF International Kart Circuit\, Stragglethorpe Ln\, Brandon\, Grantham\, Lincolnshire\, NG32 2AY\, United Kingdom
ATTACH;FMTTYPE=image/jpeg:https://teamjjr.com/wp-content/uploads/2022/03/274754921_10159931572767552_5921845545256821681_n.jpg
END:VEVENT
BEGIN:VEVENT
DTSTART;TZID=UTC:20220925T080000
DTEND;TZID=UTC:20220925T170000
DTSTAMP:20260423T150737
CREATED:20220304T144403Z
LAST-MODIFIED:20220304T144407Z
UID:537-1664092800-1664125200@teamjjr.com
SUMMARY:Motorsport UK - British Kart Championship
DESCRIPTION:
URL:https://teamjjr.com/event/motorsport-uk-british-kart-championship-3/
LOCATION:PF International Kart Circuit\, Stragglethorpe Ln\, Brandon\, Grantham\, Lincolnshire\, NG32 2AY\, United Kingdom
ATTACH;FMTTYPE=image/jpeg:https://teamjjr.com/wp-content/uploads/2022/03/274552741_10159931572802552_6892836427502596493_n.jpg
END:VEVENT
BEGIN:VEVENT
DTSTART;TZID=UTC:20220904T080000
DTEND;TZID=UTC:20220904T170000
DTSTAMP:20260423T150737
CREATED:20220304T140848Z
LAST-MODIFIED:20220304T140854Z
UID:488-1662278400-1662310800@teamjjr.com
SUMMARY:Trent Valley Kart Club
DESCRIPTION:
URL:https://teamjjr.com/event/trent-valley-kart-club-5/
LOCATION:PF International Kart Circuit\, Stragglethorpe Ln\, Brandon\, Grantham\, Lincolnshire\, NG32 2AY\, United Kingdom
ATTACH;FMTTYPE=image/jpeg:https://teamjjr.com/wp-content/uploads/2022/03/274754921_10159931572767552_5921845545256821681_n.jpg
END:VEVENT
BEGIN:VEVENT
DTSTART;TZID=UTC:20220828T080000
DTEND;TZID=UTC:20220828T170000
DTSTAMP:20260423T150737
CREATED:20220304T141649Z
LAST-MODIFIED:20220304T141654Z
UID:501-1661673600-1661706000@teamjjr.com
SUMMARY:Whilton Mill Kart Club
DESCRIPTION:
URL:https://teamjjr.com/event/whilton-mill-kart-club-4/
LOCATION:Whilton Mill Kart Club\, Whilton Locks\, Whilton\, Daventry\, Northamptonshire\, NN11 2NH
ATTACH;FMTTYPE=image/jpeg:https://teamjjr.com/wp-content/uploads/2022/03/274552741_10159931572802552_6892836427502596493_n.jpg
END:VEVENT
BEGIN:VEVENT
DTSTART;TZID=UTC:20220821T080000
DTEND;TZID=UTC:20220821T170000
DTSTAMP:20260423T150737
CREATED:20220304T144235Z
LAST-MODIFIED:20220304T144238Z
UID:535-1661068800-1661101200@teamjjr.com
SUMMARY:Motorsport UK - British Kart Championship
DESCRIPTION:
URL:https://teamjjr.com/event/motorsport-uk-british-kart-championship-2/
LOCATION:Whilton Mill Kart Club\, Whilton Locks\, Whilton\, Daventry\, Northamptonshire\, NN11 2NH
ATTACH;FMTTYPE=image/jpeg:https://teamjjr.com/wp-content/uploads/2022/03/274857324_10159931572637552_2602789388785213688_n.jpg
END:VEVENT
BEGIN:VEVENT
DTSTART;TZID=UTC:20220807T080000
DTEND;TZID=UTC:20220807T170000
DTSTAMP:20260423T150737
CREATED:20220304T144135Z
LAST-MODIFIED:20220304T144139Z
UID:533-1659859200-1659891600@teamjjr.com
SUMMARY:Kartmasters
DESCRIPTION:
URL:https://teamjjr.com/event/kartmasters/
LOCATION:PF International Kart Circuit\, Stragglethorpe Ln\, Brandon\, Grantham\, Lincolnshire\, NG32 2AY\, United Kingdom
ATTACH;FMTTYPE=image/jpeg:https://teamjjr.com/wp-content/uploads/2022/03/274754921_10159931572767552_5921845545256821681_n.jpg
END:VEVENT
BEGIN:VEVENT
DTSTART;TZID=UTC:20220724T080000
DTEND;TZID=UTC:20220724T170000
DTSTAMP:20260423T150737
CREATED:20220304T141758Z
LAST-MODIFIED:20220304T141804Z
UID:503-1658649600-1658682000@teamjjr.com
SUMMARY:Whilton Mill Kart Club
DESCRIPTION:
URL:https://teamjjr.com/event/whilton-mill-kart-club-5/
LOCATION:Whilton Mill Kart Club\, Whilton Locks\, Whilton\, Daventry\, Northamptonshire\, NN11 2NH
ATTACH;FMTTYPE=image/jpeg:https://teamjjr.com/wp-content/uploads/2022/03/274552741_10159931572802552_6892836427502596493_n.jpg
END:VEVENT
BEGIN:VEVENT
DTSTART;TZID=UTC:20220717T080000
DTEND;TZID=UTC:20220717T170000
DTSTAMP:20260423T150737
CREATED:20220304T144021Z
LAST-MODIFIED:20220304T144025Z
UID:529-1658044800-1658077200@teamjjr.com
SUMMARY:Motorsport UK - British Kart Championships
DESCRIPTION:
URL:https://teamjjr.com/event/motorsport-uk-british-kart-championships-2/
LOCATION:Little Rissington\, GL54 2LR
ATTACH;FMTTYPE=image/jpeg:https://teamjjr.com/wp-content/uploads/2022/03/274552741_10159931572802552_6892836427502596493_n.jpg
END:VEVENT
BEGIN:VEVENT
DTSTART;TZID=UTC:20220703T080000
DTEND;TZID=UTC:20220703T170000
DTSTAMP:20260423T150737
CREATED:20220304T141015Z
LAST-MODIFIED:20220304T141019Z
UID:490-1656835200-1656867600@teamjjr.com
SUMMARY:Trent Valley Kart Club
DESCRIPTION:
URL:https://teamjjr.com/event/trent-valley-kart-club-6/
LOCATION:PF International Kart Circuit\, Stragglethorpe Ln\, Brandon\, Grantham\, Lincolnshire\, NG32 2AY\, United Kingdom
ATTACH;FMTTYPE=image/jpeg:https://teamjjr.com/wp-content/uploads/2022/03/274857324_10159931572637552_2602789388785213688_n.jpg
END:VEVENT
BEGIN:VEVENT
DTSTART;TZID=UTC:20220626T080000
DTEND;TZID=UTC:20220626T170000
DTSTAMP:20260423T150737
CREATED:20220304T141847Z
LAST-MODIFIED:20220304T141851Z
UID:505-1656230400-1656262800@teamjjr.com
SUMMARY:Whilton Mill Kart Club
DESCRIPTION:
URL:https://teamjjr.com/event/whilton-mill-kart-club-6/
LOCATION:Whilton Mill Kart Club\, Whilton Locks\, Whilton\, Daventry\, Northamptonshire\, NN11 2NH
ATTACH;FMTTYPE=image/jpeg:https://teamjjr.com/wp-content/uploads/2022/03/274754921_10159931572767552_5921845545256821681_n.jpg
END:VEVENT
BEGIN:VEVENT
DTSTART;TZID=UTC:20220619T080000
DTEND;TZID=UTC:20220619T170000
DTSTAMP:20260423T150737
CREATED:20220304T143434Z
LAST-MODIFIED:20220304T143438Z
UID:524-1655625600-1655658000@teamjjr.com
SUMMARY:Motorsport UK - British Kart Championship
DESCRIPTION:
URL:https://teamjjr.com/event/motorsport-uk-british-kart-championship/
LOCATION:Glad-y-Gors\, Glan Y Gors Park\, Cerrig Y Drudion Corwen\, Conwy\, LL21 0RU
ATTACH;FMTTYPE=image/jpeg:https://teamjjr.com/wp-content/uploads/2022/03/274857324_10159931572637552_2602789388785213688_n.jpg
END:VEVENT
BEGIN:VEVENT
DTSTART;TZID=UTC:20220612T080000
DTEND;TZID=UTC:20220612T170000
DTSTAMP:20260423T150737
CREATED:20220304T143212Z
LAST-MODIFIED:20220304T143712Z
UID:522-1655020800-1655053200@teamjjr.com
SUMMARY:Little Green Man
DESCRIPTION:
URL:https://teamjjr.com/event/little-green-man-3/
LOCATION:Glad-y-Gors\, Glan Y Gors Park\, Cerrig Y Drudion Corwen\, Conwy\, LL21 0RU
ATTACH;FMTTYPE=image/jpeg:https://teamjjr.com/wp-content/uploads/2022/03/274552741_10159931572802552_6892836427502596493_n.jpg
END:VEVENT
BEGIN:VEVENT
DTSTART;TZID=UTC:20220605T080000
DTEND;TZID=UTC:20220605T170000
DTSTAMP:20260423T150737
CREATED:20220304T141119Z
LAST-MODIFIED:20220304T141127Z
UID:492-1654416000-1654448400@teamjjr.com
SUMMARY:Trent Valley Kart Club
DESCRIPTION:
URL:https://teamjjr.com/event/trent-valley-kart-club-7/
LOCATION:PF International Kart Circuit\, Stragglethorpe Ln\, Brandon\, Grantham\, Lincolnshire\, NG32 2AY\, United Kingdom
ATTACH;FMTTYPE=image/jpeg:https://teamjjr.com/wp-content/uploads/2022/03/274552741_10159931572802552_6892836427502596493_n.jpg
END:VEVENT
BEGIN:VEVENT
DTSTART;TZID=UTC:20220529T080000
DTEND;TZID=UTC:20220529T170000
DTSTAMP:20260423T150737
CREATED:20220304T141943Z
LAST-MODIFIED:20220304T141948Z
UID:507-1653811200-1653843600@teamjjr.com
SUMMARY:Whilton Mill Kart Club
DESCRIPTION:
URL:https://teamjjr.com/event/whilton-mill-kart-club-7/
LOCATION:Whilton Mill Kart Club\, Whilton Locks\, Whilton\, Daventry\, Northamptonshire\, NN11 2NH
ATTACH;FMTTYPE=image/jpeg:https://teamjjr.com/wp-content/uploads/2022/03/274857324_10159931572637552_2602789388785213688_n.jpg
END:VEVENT
BEGIN:VEVENT
DTSTART;TZID=UTC:20220522T080000
DTEND;TZID=UTC:20220522T170000
DTSTAMP:20260423T150737
CREATED:20220304T142847Z
LAST-MODIFIED:20220304T142851Z
UID:516-1653206400-1653238800@teamjjr.com
SUMMARY:Motorsport UK - British Kart Championships
DESCRIPTION:
URL:https://teamjjr.com/event/motorsport-uk-british-kart-championships/
LOCATION:Warden Law\, Hangman’s Lane\, Sunderland\, SR3 2PR\, United Kingdom
ATTACH;FMTTYPE=image/jpeg:https://teamjjr.com/wp-content/uploads/2022/03/274754921_10159931572767552_5921845545256821681_n.jpg
END:VEVENT
BEGIN:VEVENT
DTSTART;TZID=UTC:20220515T080000
DTEND;TZID=UTC:20220515T170000
DTSTAMP:20260423T150737
CREATED:20220304T142949Z
LAST-MODIFIED:20220304T142953Z
UID:520-1652601600-1652634000@teamjjr.com
SUMMARY:Little Green Man
DESCRIPTION:
URL:https://teamjjr.com/event/little-green-man-2/
LOCATION:Warden Law\, Hangman’s Lane\, Sunderland\, SR3 2PR\, United Kingdom
ATTACH;FMTTYPE=image/jpeg:https://teamjjr.com/wp-content/uploads/2022/03/274552741_10159931572802552_6892836427502596493_n.jpg
END:VEVENT
BEGIN:VEVENT
DTSTART;TZID=UTC:20220501T080000
DTEND;TZID=UTC:20220501T170000
DTSTAMP:20260423T150737
CREATED:20220304T141239Z
LAST-MODIFIED:20220304T141247Z
UID:495-1651392000-1651424400@teamjjr.com
SUMMARY:Trent Valley Kart Club
DESCRIPTION:
URL:https://teamjjr.com/event/trent-valley-kart-club-8/
LOCATION:PF International Kart Circuit\, Stragglethorpe Ln\, Brandon\, Grantham\, Lincolnshire\, NG32 2AY\, United Kingdom
ATTACH;FMTTYPE=image/jpeg:https://teamjjr.com/wp-content/uploads/2022/03/274552741_10159931572802552_6892836427502596493_n.jpg
END:VEVENT
BEGIN:VEVENT
DTSTART;TZID=UTC:20220424T080000
DTEND;TZID=UTC:20220424T170000
DTSTAMP:20260423T150737
CREATED:20220304T142552Z
LAST-MODIFIED:20220304T144534Z
UID:514-1650787200-1650819600@teamjjr.com
SUMMARY:Motorsport UK - British Kart Championships
DESCRIPTION:
URL:https://teamjjr.com/event/motorsport-uk-british-karting-championships/
LOCATION:Shenington Kart Club\, Shenington Airfield\, Shenington\, Oxfordshire\, OX15 6NW\, United Kingdom
ATTACH;FMTTYPE=image/jpeg:https://teamjjr.com/wp-content/uploads/2022/03/274754921_10159931572767552_5921845545256821681_n.jpg
END:VEVENT
BEGIN:VEVENT
DTSTART;TZID=UTC:20220417T080000
DTEND;TZID=UTC:20220417T170000
DTSTAMP:20260423T150737
CREATED:20220304T142436Z
LAST-MODIFIED:20220304T142440Z
UID:512-1650182400-1650214800@teamjjr.com
SUMMARY:Shenington Kart Club
DESCRIPTION:
URL:https://teamjjr.com/event/shenington-kart-club-2/
LOCATION:Shenington Kart Club\, Shenington Airfield\, Shenington\, Oxfordshire\, OX15 6NW\, United Kingdom
ATTACH;FMTTYPE=image/jpeg:https://teamjjr.com/wp-content/uploads/2022/03/274552741_10159931572802552_6892836427502596493_n.jpg
END:VEVENT
BEGIN:VEVENT
DTSTART;TZID=UTC:20220410T080000
DTEND;TZID=UTC:20220410T170000
DTSTAMP:20260423T150737
CREATED:20220304T142308Z
LAST-MODIFIED:20220304T143541Z
UID:509-1649577600-1649610000@teamjjr.com
SUMMARY:Little Green Man
DESCRIPTION:
URL:https://teamjjr.com/event/little-green-man/
LOCATION:Larkhall Circuit\, Merryton Rd\, Larkhall\, ML9 2UL\, United Kingdom
ATTACH;FMTTYPE=image/jpeg:https://teamjjr.com/wp-content/uploads/2022/03/274857324_10159931572637552_2602789388785213688_n.jpg
END:VEVENT
BEGIN:VEVENT
DTSTART;TZID=UTC:20220403T080000
DTEND;TZID=UTC:20220403T170000
DTSTAMP:20260423T150737
CREATED:20220304T135859Z
LAST-MODIFIED:20220304T135904Z
UID:479-1648972800-1649005200@teamjjr.com
SUMMARY:Trent Valley Kart Club
DESCRIPTION:
URL:https://teamjjr.com/event/trent-valley-kart-club1/
LOCATION:PF International Kart Circuit\, Stragglethorpe Ln\, Brandon\, Grantham\, Lincolnshire\, NG32 2AY\, United Kingdom
ATTACH;FMTTYPE=image/jpeg:https://teamjjr.com/wp-content/uploads/2022/03/274754921_10159931572767552_5921845545256821681_n.jpg
END:VEVENT
BEGIN:VEVENT
DTSTART;TZID=UTC:20220327T080000
DTEND;TZID=UTC:20220327T170000
DTSTAMP:20260423T150737
CREATED:20220304T135722Z
LAST-MODIFIED:20220304T135725Z
UID:474-1648368000-1648400400@teamjjr.com
SUMMARY:Whilton Mill Kart Club
DESCRIPTION:
URL:https://teamjjr.com/event/whilton-mill-kart-club/
LOCATION:Whilton Mill Kart Club\, Whilton Locks\, Whilton\, Daventry\, Northamptonshire\, NN11 2NH
ATTACH;FMTTYPE=image/jpeg:https://teamjjr.com/wp-content/uploads/2022/03/274552741_10159931572802552_6892836427502596493_n.jpg
END:VEVENT
BEGIN:VEVENT
DTSTART;TZID=UTC:20220320T080000
DTEND;TZID=UTC:20220320T170000
DTSTAMP:20260423T150737
CREATED:20220304T135217Z
LAST-MODIFIED:20220304T135221Z
UID:472-1647763200-1647795600@teamjjr.com
SUMMARY:Shenington Kart Club
DESCRIPTION:
URL:https://teamjjr.com/event/shenington-kart-club/
LOCATION:Shenington Kart Club\, Shenington Airfield\, Shenington\, Oxfordshire\, OX15 6NW\, United Kingdom
ATTACH;FMTTYPE=image/jpeg:https://teamjjr.com/wp-content/uploads/2021/07/matt-2058-scaled.jpg
END:VEVENT
BEGIN:VEVENT
DTSTART;TZID=UTC:20220306T080000
DTEND;TZID=UTC:20220306T170000
DTSTAMP:20260423T150737
CREATED:20220304T134748Z
LAST-MODIFIED:20220304T135009Z
UID:466-1646553600-1646586000@teamjjr.com
SUMMARY:Trent Valley Kart Club
DESCRIPTION:
URL:https://teamjjr.com/event/trent-valley-kart-club/
LOCATION:PF International Kart Circuit\, Stragglethorpe Ln\, Brandon\, Grantham\, Lincolnshire\, NG32 2AY\, United Kingdom
ATTACH;FMTTYPE=image/jpeg:https://teamjjr.com/wp-content/uploads/2022/03/274857324_10159931572637552_2602789388785213688_n.jpg
END:VEVENT
BEGIN:VEVENT
DTSTART;TZID=UTC:20220115T080000
DTEND;TZID=UTC:20220115T170000
DTSTAMP:20260423T150737
CREATED:20220106T085233Z
LAST-MODIFIED:20220106T085333Z
UID:328-1642233600-1642266000@teamjjr.com
SUMMARY:Round 1: Shenington Kart Club
DESCRIPTION:Round 1 \n\n\n\n\n\n\n\n\n\n\nHome
URL:https://teamjjr.com/event/round-1-shenington-kart-club/
LOCATION:Shenington Kart Club\, Shenington Airfield\, Shenington\, Oxfordshire\, OX15 6NW\, United Kingdom
ATTACH;FMTTYPE=image/jpeg:https://teamjjr.com/wp-content/uploads/2021/07/stadium.jpg
END:VEVENT
END:VCALENDAR